BEGIN:VCALENDAR
VERSION:2.0
PRODID:-//Visit Lancaster City - ECPv6.15.20//NONSGML v1.0//EN
CALSCALE:GREGORIAN
METHOD:PUBLISH
X-WR-CALNAME:Visit Lancaster City
X-ORIGINAL-URL:https://visitlancastercity.com
X-WR-CALDESC:Events for Visit Lancaster City
REFRESH-INTERVAL;VALUE=DURATION:PT1H
X-Robots-Tag:noindex
X-PUBLISHED-TTL:PT1H
BEGIN:VTIMEZONE
TZID:America/New_York
BEGIN:DAYLIGHT
TZOFFSETFROM:-0500
TZOFFSETTO:-0400
TZNAME:EDT
DTSTART:20250309T070000
END:DAYLIGHT
BEGIN:STANDARD
TZOFFSETFROM:-0400
TZOFFSETTO:-0500
TZNAME:EST
DTSTART:20251102T060000
END:STANDARD
BEGIN:DAYLIGHT
TZOFFSETFROM:-0500
TZOFFSETTO:-0400
TZNAME:EDT
DTSTART:20260308T070000
END:DAYLIGHT
BEGIN:STANDARD
TZOFFSETFROM:-0400
TZOFFSETTO:-0500
TZNAME:EST
DTSTART:20261101T060000
END:STANDARD
BEGIN:DAYLIGHT
TZOFFSETFROM:-0500
TZOFFSETTO:-0400
TZNAME:EDT
DTSTART:20270314T070000
END:DAYLIGHT
BEGIN:STANDARD
TZOFFSETFROM:-0400
TZOFFSETTO:-0500
TZNAME:EST
DTSTART:20271107T060000
END:STANDARD
END:VTIMEZONE
BEGIN:VEVENT
DTSTART;TZID=America/New_York:20260421T180000
DTEND;TZID=America/New_York:20260421T200000
DTSTAMP:20260419T193443
CREATED:20251024T180936Z
LAST-MODIFIED:20251024T180937Z
UID:55455-1776794400-1776801600@visitlancastercity.com
SUMMARY:Kids' Salsa (5+)
DESCRIPTION:Salsa is for kids\, too! Engage your young dancer in a fun\, educational activity and get them moving\, learning\, and gaining confidence! No experience required. ¡Bailemos!
URL:https://visitlancastercity.com/event/kids-salsa-5/
LOCATION:The Ware Center – Millersville University\, 42 N. Prince Street\, Lancaster\, PA\, 17603\, United States
CATEGORIES:Music and Dance
ATTACH;FMTTYPE=image/jpeg:https://visitlancastercity.com/wp-content/uploads/2026.04.21-Kids-Salsa.jpg
END:VEVENT
BEGIN:VEVENT
DTSTART;TZID=America/New_York:20260425T130000
DTEND;TZID=America/New_York:20260425T143000
DTSTAMP:20260419T193443
CREATED:20251024T180747Z
LAST-MODIFIED:20251024T180748Z
UID:55452-1777122000-1777127400@visitlancastercity.com
SUMMARY:Doodle POP
DESCRIPTION:A mischievous duo starts to doodle… and ends up creating a whole imaginative world! Follow their vivid drawings (and a tiny little turtle) into a beautiful watery world where anything can happen. With live musicians\, stunning interactive animation\, and live whiteboard drawings\, this touching and playful non-verbal show delivers an abundance of theatrical imagination. Free children’s activities in the lobby at 12 PM!
URL:https://visitlancastercity.com/event/doodle-pop/
LOCATION:The Ware Center – Millersville University\, 42 N. Prince Street\, Lancaster\, PA\, 17603\, United States
CATEGORIES:Family Fun
ATTACH;FMTTYPE=image/jpeg:https://visitlancastercity.com/wp-content/uploads/2026.04.25-Doodle-POP.jpg
END:VEVENT
BEGIN:VEVENT
DTSTART;TZID=America/New_York:20260501T190000
DTEND;TZID=America/New_York:20260501T200000
DTSTAMP:20260419T193443
CREATED:20251024T180520Z
LAST-MODIFIED:20260406T171342Z
UID:55449-1777662000-1777665600@visitlancastercity.com
SUMMARY:Baobab
DESCRIPTION:The djembe drums dance and the ngoni’s strings sing as the griots tell a tale passed down from generation to generation. Long ago\, when the stars were still babies\, the trees and animals talked\, and a water-stealing sun burned overhead\, a baobab tree bore an unexpected and unusual gift. Featuring music from Mali and Senegal\, puppets large and small\, one naughty monkey\, and a witch with an itch to dance\, Baobab is a percussion-filled fable about a boy’s heroic quest to save his village from drought. At 6 pm in the lobby\, enjoy free children’s activities\, dancing from Imani Edu-tainers\, and small bites of African food from Upohar World Kitchen!
URL:https://visitlancastercity.com/event/baobab/
LOCATION:The Ware Center – Millersville University\, 42 N. Prince Street\, Lancaster\, PA\, 17603\, United States
CATEGORIES:Arts and Culture,First Friday
ATTACH;FMTTYPE=image/jpeg:https://visitlancastercity.com/wp-content/uploads/Baobab_8521.jpg
END:VEVENT
BEGIN:VEVENT
DTSTART;TZID=America/New_York:20260605T183000
DTEND;TZID=America/New_York:20260605T200000
DTSTAMP:20260419T193443
CREATED:20251024T180312Z
LAST-MODIFIED:20251024T180313Z
UID:55446-1780684200-1780689600@visitlancastercity.com
SUMMARY:Voices of Migration: An Art & Storytelling Celebration
DESCRIPTION:In partnership with the Spanish American Civic Association (SACA)\, join us in celebrating the journeys of Lancaster’s immigrant communities through art and oral histories from elders and Tec Centro graduates. This presentation will highlight a multi-day exhibit at the Ware Center featuring powerful stories of migration\, complemented by a one-day pop-up at Café Centro on June 18. The event also launches the Voices of Migration Art Park\, anchored by a 14-foot steel sculpture of moving Monarch butterflies emerging from a traveling trunk—symbolizing transformation and hope.
URL:https://visitlancastercity.com/event/voices-of-migration-an-art-storytelling-celebration/
LOCATION:The Ware Center – Millersville University\, 42 N. Prince Street\, Lancaster\, PA\, 17603\, United States
CATEGORIES:Arts and Culture
ATTACH;FMTTYPE=image/jpeg:https://visitlancastercity.com/wp-content/uploads/Voices-of-Migration.jpg
END:VEVENT
END:VCALENDAR