BEGIN:VCALENDAR
VERSION:2.0
PRODID:-//Visit Lancaster City - ECPv6.15.20//NONSGML v1.0//EN
CALSCALE:GREGORIAN
METHOD:PUBLISH
X-WR-CALNAME:Visit Lancaster City
X-ORIGINAL-URL:https://visitlancastercity.com
X-WR-CALDESC:Events for Visit Lancaster City
REFRESH-INTERVAL;VALUE=DURATION:PT1H
X-Robots-Tag:noindex
X-PUBLISHED-TTL:PT1H
BEGIN:VTIMEZONE
TZID:America/New_York
BEGIN:DAYLIGHT
TZOFFSETFROM:-0500
TZOFFSETTO:-0400
TZNAME:EDT
DTSTART:20250309T070000
END:DAYLIGHT
BEGIN:STANDARD
TZOFFSETFROM:-0400
TZOFFSETTO:-0500
TZNAME:EST
DTSTART:20251102T060000
END:STANDARD
BEGIN:DAYLIGHT
TZOFFSETFROM:-0500
TZOFFSETTO:-0400
TZNAME:EDT
DTSTART:20260308T070000
END:DAYLIGHT
BEGIN:STANDARD
TZOFFSETFROM:-0400
TZOFFSETTO:-0500
TZNAME:EST
DTSTART:20261101T060000
END:STANDARD
BEGIN:DAYLIGHT
TZOFFSETFROM:-0500
TZOFFSETTO:-0400
TZNAME:EDT
DTSTART:20270314T070000
END:DAYLIGHT
BEGIN:STANDARD
TZOFFSETFROM:-0400
TZOFFSETTO:-0500
TZNAME:EST
DTSTART:20271107T060000
END:STANDARD
END:VTIMEZONE
BEGIN:VEVENT
DTSTART;TZID=America/New_York:20260308T140000
DTEND;TZID=America/New_York:20260308T170000
DTSTAMP:20260423T005305
CREATED:20260304T164507Z
LAST-MODIFIED:20260304T164833Z
UID:56719-1772978400-1772989200@visitlancastercity.com
SUMMARY:Piobaireachd Gathering - Great Highland Bagpipes
DESCRIPTION:Members of the Piobaireachd Society of Central Pennsylvania will be presenting an afternoon of music on the Great Highland Bagpipe of Scotland.  Members will be playing both the light music (Ceol Beag) and the big music (Ceol Mor) also known as piobaireachd.   \n\n\n\nPipers come from throughout central Pennsylvania and surrounding regions to play and share the music with the audience and other pipers.  These events have been described as Piobaireachd Open Mic events.
URL:https://visitlancastercity.com/event/piobaireachd-gathering-great-highland-bagpipes/
LOCATION:St. Anthony of Padua Catholic Church\, 501 East Orange Street\, Lancaster\, PA\, 17602\, United States
CATEGORIES:Music and Dance
ATTACH;FMTTYPE=image/jpeg:https://visitlancastercity.com/wp-content/uploads/PiobGathering_20260308.jpg
ORGANIZER;CN="Pipers from The Piobaireachd Society of Central Pennsylvania":MAILTO:piobaireachd@hotmail.com
GEO:40.0410821;-76.2951432
X-APPLE-STRUCTURED-LOCATION;VALUE=URI;X-ADDRESS=St. Anthony of Padua Catholic Church 501 East Orange Street Lancaster PA 17602 United States;X-APPLE-RADIUS=500;X-TITLE=501 East Orange Street:geo:-76.2951432,40.0410821
END:VEVENT
END:VCALENDAR