BEGIN:VCALENDAR
VERSION:2.0
PRODID:-//Visit Lancaster City - ECPv6.15.20//NONSGML v1.0//EN
CALSCALE:GREGORIAN
METHOD:PUBLISH
X-ORIGINAL-URL:https://visitlancastercity.com
X-WR-CALDESC:Events for Visit Lancaster City
REFRESH-INTERVAL;VALUE=DURATION:PT1H
X-Robots-Tag:noindex
X-PUBLISHED-TTL:PT1H
BEGIN:VTIMEZONE
TZID:America/New_York
BEGIN:DAYLIGHT
TZOFFSETFROM:-0500
TZOFFSETTO:-0400
TZNAME:EDT
DTSTART:20250309T070000
END:DAYLIGHT
BEGIN:STANDARD
TZOFFSETFROM:-0400
TZOFFSETTO:-0500
TZNAME:EST
DTSTART:20251102T060000
END:STANDARD
BEGIN:DAYLIGHT
TZOFFSETFROM:-0500
TZOFFSETTO:-0400
TZNAME:EDT
DTSTART:20260308T070000
END:DAYLIGHT
BEGIN:STANDARD
TZOFFSETFROM:-0400
TZOFFSETTO:-0500
TZNAME:EST
DTSTART:20261101T060000
END:STANDARD
BEGIN:DAYLIGHT
TZOFFSETFROM:-0500
TZOFFSETTO:-0400
TZNAME:EDT
DTSTART:20270314T070000
END:DAYLIGHT
BEGIN:STANDARD
TZOFFSETFROM:-0400
TZOFFSETTO:-0500
TZNAME:EST
DTSTART:20271107T060000
END:STANDARD
END:VTIMEZONE
BEGIN:VEVENT
DTSTART;TZID=America/New_York:20260412T150000
DTEND;TZID=America/New_York:20260412T163000
DTSTAMP:20260422T115224
CREATED:20260202T132908Z
LAST-MODIFIED:20260202T132909Z
UID:56433-1776006000-1776011400@visitlancastercity.com
SUMMARY:Servant Stage Company’s A BROADWAY MELODY
DESCRIPTION:Step into the spotlight with A Broadway Melody! This spectacular revue celebrates 100 years of Broadway magic\, featuring unforgettable songs and showstoppers from the greatest musicals of all time. With a powerhouse cast of dynamic performers\, this intimate cabaret-style performance brings the best of the Great White Way up close and personal. From classic tunes to modern hits\, A Broadway Melody is a joyful\, high-energy tribute to the music\, memories\, and magic that have defined a century of Broadway!
URL:https://visitlancastercity.com/event/servant-stage-companys-a-broadway-melody-4/
LOCATION:The Ware Center\, 42 North Prince Street\, Lancaster\, PA\, 17603\, United States
CATEGORIES:Free Events and Activites,Music and Dance,Theatre
ATTACH;FMTTYPE=image/jpeg:https://visitlancastercity.com/wp-content/uploads/SS-Heart-Logo.jpg
ORGANIZER;CN="Servant Stage Company":MAILTO:kat@servantstagecompany.com
GEO:40.038672;-76.308342
X-APPLE-STRUCTURED-LOCATION;VALUE=URI;X-ADDRESS=The Ware Center 42 North Prince Street Lancaster PA 17603 United States;X-APPLE-RADIUS=500;X-TITLE=42 North Prince Street:geo:-76.308342,40.038672
END:VEVENT
BEGIN:VEVENT
DTSTART;TZID=America/New_York:20260411T190000
DTEND;TZID=America/New_York:20260411T203000
DTSTAMP:20260422T115224
CREATED:20260202T132729Z
LAST-MODIFIED:20260202T132730Z
UID:56431-1775934000-1775939400@visitlancastercity.com
SUMMARY:Servant Stage Company’s A BROADWAY MELODY
DESCRIPTION:Step into the spotlight with A Broadway Melody! This spectacular revue celebrates 100 years of Broadway magic\, featuring unforgettable songs and showstoppers from the greatest musicals of all time. With a powerhouse cast of dynamic performers\, this intimate cabaret-style performance brings the best of the Great White Way up close and personal. From classic tunes to modern hits\, A Broadway Melody is a joyful\, high-energy tribute to the music\, memories\, and magic that have defined a century of Broadway!
URL:https://visitlancastercity.com/event/servant-stage-companys-a-broadway-melody-3/
LOCATION:The Ware Center\, 42 North Prince Street\, Lancaster\, PA\, 17603\, United States
CATEGORIES:Free Events and Activites,Music and Dance,Theatre
ATTACH;FMTTYPE=image/jpeg:https://visitlancastercity.com/wp-content/uploads/SS-Heart-Logo.jpg
ORGANIZER;CN="Servant Stage Company":MAILTO:kat@servantstagecompany.com
GEO:40.038672;-76.308342
X-APPLE-STRUCTURED-LOCATION;VALUE=URI;X-ADDRESS=The Ware Center 42 North Prince Street Lancaster PA 17603 United States;X-APPLE-RADIUS=500;X-TITLE=42 North Prince Street:geo:-76.308342,40.038672
END:VEVENT
BEGIN:VEVENT
DTSTART;TZID=America/New_York:20260411T150000
DTEND;TZID=America/New_York:20260411T163000
DTSTAMP:20260422T115224
CREATED:20260202T132554Z
LAST-MODIFIED:20260202T132555Z
UID:56429-1775919600-1775925000@visitlancastercity.com
SUMMARY:Servant Stage Company’s A BROADWAY MELODY
DESCRIPTION:Step into the spotlight with A Broadway Melody! This spectacular revue celebrates 100 years of Broadway magic\, featuring unforgettable songs and showstoppers from the greatest musicals of all time. With a powerhouse cast of dynamic performers\, this intimate cabaret-style performance brings the best of the Great White Way up close and personal. From classic tunes to modern hits\, A Broadway Melody is a joyful\, high-energy tribute to the music\, memories\, and magic that have defined a century of Broadway!
URL:https://visitlancastercity.com/event/servant-stage-companys-a-broadway-melody-2/
LOCATION:The Ware Center\, 42 North Prince Street\, Lancaster\, PA\, 17603\, United States
CATEGORIES:Free Events and Activites,Music and Dance,Theatre
ATTACH;FMTTYPE=image/jpeg:https://visitlancastercity.com/wp-content/uploads/SS-Heart-Logo.jpg
ORGANIZER;CN="Servant Stage Company":MAILTO:kat@servantstagecompany.com
GEO:40.038672;-76.308342
X-APPLE-STRUCTURED-LOCATION;VALUE=URI;X-ADDRESS=The Ware Center 42 North Prince Street Lancaster PA 17603 United States;X-APPLE-RADIUS=500;X-TITLE=42 North Prince Street:geo:-76.308342,40.038672
END:VEVENT
BEGIN:VEVENT
DTSTART;TZID=America/New_York:20260411T110000
DTEND;TZID=America/New_York:20260411T123000
DTSTAMP:20260422T115224
CREATED:20260202T132411Z
LAST-MODIFIED:20260202T132412Z
UID:56426-1775905200-1775910600@visitlancastercity.com
SUMMARY:Servant Stage Company’s A BROADWAY MELODY
DESCRIPTION:Step into the spotlight with A Broadway Melody! This spectacular revue celebrates 100 years of Broadway magic\, featuring unforgettable songs and showstoppers from the greatest musicals of all time. With a powerhouse cast of dynamic performers\, this intimate cabaret-style performance brings the best of the Great White Way up close and personal. From classic tunes to modern hits\, A Broadway Melody is a joyful\, high-energy tribute to the music\, memories\, and magic that have defined a century of Broadway!
URL:https://visitlancastercity.com/event/servant-stage-companys-a-broadway-melody/
LOCATION:The Ware Center\, 42 North Prince Street\, Lancaster\, PA\, 17603\, United States
CATEGORIES:Free Events and Activites,Music and Dance,Theatre
ATTACH;FMTTYPE=image/jpeg:https://visitlancastercity.com/wp-content/uploads/SS-Heart-Logo.jpg
ORGANIZER;CN="Servant Stage Company":MAILTO:kat@servantstagecompany.com
GEO:40.038672;-76.308342
X-APPLE-STRUCTURED-LOCATION;VALUE=URI;X-ADDRESS=The Ware Center 42 North Prince Street Lancaster PA 17603 United States;X-APPLE-RADIUS=500;X-TITLE=42 North Prince Street:geo:-76.308342,40.038672
END:VEVENT
END:VCALENDAR