BEGIN:VCALENDAR
VERSION:2.0
PRODID:-//Visit Lancaster City - ECPv6.15.20//NONSGML v1.0//EN
CALSCALE:GREGORIAN
METHOD:PUBLISH
X-WR-CALNAME:Visit Lancaster City
X-ORIGINAL-URL:https://visitlancastercity.com
X-WR-CALDESC:Events for Visit Lancaster City
REFRESH-INTERVAL;VALUE=DURATION:PT1H
X-Robots-Tag:noindex
X-PUBLISHED-TTL:PT1H
BEGIN:VTIMEZONE
TZID:America/New_York
BEGIN:DAYLIGHT
TZOFFSETFROM:-0500
TZOFFSETTO:-0400
TZNAME:EDT
DTSTART:20250309T070000
END:DAYLIGHT
BEGIN:STANDARD
TZOFFSETFROM:-0400
TZOFFSETTO:-0500
TZNAME:EST
DTSTART:20251102T060000
END:STANDARD
BEGIN:DAYLIGHT
TZOFFSETFROM:-0500
TZOFFSETTO:-0400
TZNAME:EDT
DTSTART:20260308T070000
END:DAYLIGHT
BEGIN:STANDARD
TZOFFSETFROM:-0400
TZOFFSETTO:-0500
TZNAME:EST
DTSTART:20261101T060000
END:STANDARD
BEGIN:DAYLIGHT
TZOFFSETFROM:-0500
TZOFFSETTO:-0400
TZNAME:EDT
DTSTART:20270314T070000
END:DAYLIGHT
BEGIN:STANDARD
TZOFFSETFROM:-0400
TZOFFSETTO:-0500
TZNAME:EST
DTSTART:20271107T060000
END:STANDARD
END:VTIMEZONE
BEGIN:VEVENT
DTSTART;TZID=America/New_York:20260207T130000
DTEND;TZID=America/New_York:20260207T150000
DTSTAMP:20260421T133332
CREATED:20260120T134907Z
LAST-MODIFIED:20260120T134908Z
UID:56240-1770469200-1770476400@visitlancastercity.com
SUMMARY:Adults' Valentine-Making Party @ Pocket Books Shop
DESCRIPTION:Drop in to Pocket Books Shop between 1:00-3:00pm to make Valentine’s cards with Pocket Books co-owner Austin! Art supplies provided.
URL:https://visitlancastercity.com/event/adults-valentine-making-party-pocket-books-shop/
LOCATION:Pocket Books Shop\, 903 Wheatland Ave\, Lancaster\, PA\, 17603\, United States
CATEGORIES:Classes and Workshops,Holiday
ATTACH;FMTTYPE=image/png:https://visitlancastercity.com/wp-content/uploads/2-5.png
ORGANIZER;CN="Pocket Books Shop":MAILTO:info@pocketbooksshop.com
END:VEVENT
END:VCALENDAR