BEGIN:VCALENDAR
VERSION:2.0
PRODID:-//Visit Lancaster City - ECPv6.15.20//NONSGML v1.0//EN
CALSCALE:GREGORIAN
METHOD:PUBLISH
X-WR-CALNAME:Visit Lancaster City
X-ORIGINAL-URL:https://visitlancastercity.com
X-WR-CALDESC:Events for Visit Lancaster City
REFRESH-INTERVAL;VALUE=DURATION:PT1H
X-Robots-Tag:noindex
X-PUBLISHED-TTL:PT1H
BEGIN:VTIMEZONE
TZID:America/New_York
BEGIN:DAYLIGHT
TZOFFSETFROM:-0500
TZOFFSETTO:-0400
TZNAME:EDT
DTSTART:20240310T070000
END:DAYLIGHT
BEGIN:STANDARD
TZOFFSETFROM:-0400
TZOFFSETTO:-0500
TZNAME:EST
DTSTART:20241103T060000
END:STANDARD
BEGIN:DAYLIGHT
TZOFFSETFROM:-0500
TZOFFSETTO:-0400
TZNAME:EDT
DTSTART:20250309T070000
END:DAYLIGHT
BEGIN:STANDARD
TZOFFSETFROM:-0400
TZOFFSETTO:-0500
TZNAME:EST
DTSTART:20251102T060000
END:STANDARD
BEGIN:DAYLIGHT
TZOFFSETFROM:-0500
TZOFFSETTO:-0400
TZNAME:EDT
DTSTART:20260308T070000
END:DAYLIGHT
BEGIN:STANDARD
TZOFFSETFROM:-0400
TZOFFSETTO:-0500
TZNAME:EST
DTSTART:20261101T060000
END:STANDARD
BEGIN:DAYLIGHT
TZOFFSETFROM:-0500
TZOFFSETTO:-0400
TZNAME:EDT
DTSTART:20270314T070000
END:DAYLIGHT
BEGIN:STANDARD
TZOFFSETFROM:-0400
TZOFFSETTO:-0500
TZNAME:EST
DTSTART:20271107T060000
END:STANDARD
END:VTIMEZONE
BEGIN:VEVENT
DTSTART;TZID=America/New_York:20260306T160000
DTEND;TZID=America/New_York:20260306T200000
DTSTAMP:20260421T222414
CREATED:20260209T135246Z
LAST-MODIFIED:20260209T135257Z
UID:56479-1772812800-1772827200@visitlancastercity.com
SUMMARY:Celebrating Smiles: Sip and Stroll Through Clinic Art
DESCRIPTION:Come view stunning art by talented patients\, family\, and friends of the Lancaster Cleft Palate Clinic during Lancaster First Friday on March 6 from 4 to 8pm. There will be live acoustic music by the talented Corey Aiden\, beverages\, an online silent auction to take home your favorite pieces\, an art-making table for younger guests\, and goody bags of surprises from local businesses for the first 100 guests. Celebrating Smiles is a free event and annual fundraiser to support patient care costs.
URL:https://visitlancastercity.com/event/celebrating-smiles-sip-and-stroll-through-clinic-art-3/
LOCATION:Sehner-Ellicott-von Hess House\, 123 North Prince Street\, Lancaster\, PA\, 17603\, United States
CATEGORIES:Arts and Culture,Fundraiser
ATTACH;FMTTYPE=image/jpeg:https://visitlancastercity.com/wp-content/uploads/CS-Logo-2026.jpg
GEO:40.0400884;-76.3079501
X-APPLE-STRUCTURED-LOCATION;VALUE=URI;X-ADDRESS=Sehner-Ellicott-von Hess House 123 North Prince Street Lancaster PA 17603 United States;X-APPLE-RADIUS=500;X-TITLE=123 North Prince Street:geo:-76.3079501,40.0400884
END:VEVENT
BEGIN:VEVENT
DTSTART;TZID=America/New_York:20250404T160000
DTEND;TZID=America/New_York:20250404T200000
DTSTAMP:20260421T222414
CREATED:20250401T202505Z
LAST-MODIFIED:20250401T202506Z
UID:53775-1743782400-1743796800@visitlancastercity.com
SUMMARY:Celebrating Smiles: Sip and Stroll Through Clinic Art
DESCRIPTION:Come view stunning art from talented patients\, family\, practitioners\, and friends of the Lancaster Cleft Palate Clinic during Lancaster First Friday. There will be live acoustic music\, beverages\, an online silent auction to take home your favorite pieces\, an art-making table for younger guests\, and goody bags of surprises from local businesses for the first 100 guests. Celebrating Smiles is an annual fundraiser to support patient care costs.
URL:https://visitlancastercity.com/event/celebrating-smiles-sip-and-stroll-through-clinic-art-2/
CATEGORIES:First Friday
END:VEVENT
END:VCALENDAR