BEGIN:VCALENDAR
VERSION:2.0
PRODID:-//Visit Lancaster City - ECPv6.15.20//NONSGML v1.0//EN
CALSCALE:GREGORIAN
METHOD:PUBLISH
X-WR-CALNAME:Visit Lancaster City
X-ORIGINAL-URL:https://visitlancastercity.com
X-WR-CALDESC:Events for Visit Lancaster City
REFRESH-INTERVAL;VALUE=DURATION:PT1H
X-Robots-Tag:noindex
X-PUBLISHED-TTL:PT1H
BEGIN:VTIMEZONE
TZID:America/New_York
BEGIN:DAYLIGHT
TZOFFSETFROM:-0500
TZOFFSETTO:-0400
TZNAME:EDT
DTSTART:20240310T070000
END:DAYLIGHT
BEGIN:STANDARD
TZOFFSETFROM:-0400
TZOFFSETTO:-0500
TZNAME:EST
DTSTART:20241103T060000
END:STANDARD
BEGIN:DAYLIGHT
TZOFFSETFROM:-0500
TZOFFSETTO:-0400
TZNAME:EDT
DTSTART:20250309T070000
END:DAYLIGHT
BEGIN:STANDARD
TZOFFSETFROM:-0400
TZOFFSETTO:-0500
TZNAME:EST
DTSTART:20251102T060000
END:STANDARD
BEGIN:DAYLIGHT
TZOFFSETFROM:-0500
TZOFFSETTO:-0400
TZNAME:EDT
DTSTART:20260308T070000
END:DAYLIGHT
BEGIN:STANDARD
TZOFFSETFROM:-0400
TZOFFSETTO:-0500
TZNAME:EST
DTSTART:20261101T060000
END:STANDARD
BEGIN:DAYLIGHT
TZOFFSETFROM:-0500
TZOFFSETTO:-0400
TZNAME:EDT
DTSTART:20270314T070000
END:DAYLIGHT
BEGIN:STANDARD
TZOFFSETFROM:-0400
TZOFFSETTO:-0500
TZNAME:EST
DTSTART:20271107T060000
END:STANDARD
END:VTIMEZONE
BEGIN:VEVENT
DTSTART;TZID=America/New_York:20260404T100000
DTEND;TZID=America/New_York:20260404T110000
DTSTAMP:20260422T113902
CREATED:20260312T160947Z
LAST-MODIFIED:20260312T161011Z
UID:56892-1775296800-1775300400@visitlancastercity.com
SUMMARY:Community Easter Egg Hunt
DESCRIPTION:Join us for delicious refreshments\, crafts\, and an Egg Hunt!
URL:https://visitlancastercity.com/event/community-easter-egg-hunt/
LOCATION:Holy Trinity Lutheran Church\, 31 South Duke Street\, Lancaster\, PA\, 17602\, United States
CATEGORIES:Family Fun,Free Events and Activites
ATTACH;FMTTYPE=image/jpeg:https://visitlancastercity.com/wp-content/uploads/TRINITY_Identity_Horizontal_Established_FullColor_RGB.jpg
GEO:40.037233;-76.302843
X-APPLE-STRUCTURED-LOCATION;VALUE=URI;X-ADDRESS=Holy Trinity Lutheran Church 31 South Duke Street Lancaster PA 17602 United States;X-APPLE-RADIUS=500;X-TITLE=31 South Duke Street:geo:-76.302843,40.037233
END:VEVENT
BEGIN:VEVENT
DTSTART;TZID=America/New_York:20260306T170000
DTEND;TZID=America/New_York:20260306T180000
DTSTAMP:20260422T113902
CREATED:20260220T160733Z
LAST-MODIFIED:20260220T160756Z
UID:56616-1772816400-1772820000@visitlancastercity.com
SUMMARY:Trinity First Friday Speaker Series
DESCRIPTION:Join us at Trinity Lutheran Church\, 31 S. Duke Street on Friday\, March 6th for a Trinity First Friday Speaker Series event. The evening will begin at 5 pm with the playing of the Church bells and a short organ demonstration. The main speaker presentation will start at 5:30 pm followed by sanctuary tours and refreshments. All activities will be held in the Church Sanctuary at the corner of Duke and Mifflin Streets. The speaker will be Sylvia Cavanaugh presenting Black Women’s History. Sylvia is the Tour Coordinator of the African American Historical Society of South Central Pennsylvania. Free parking is provided.
URL:https://visitlancastercity.com/event/trinity-first-friday-speaker-series/
LOCATION:Holy Trinity Lutheran Church\, 31 South Duke Street\, Lancaster\, PA\, 17602\, United States
CATEGORIES:First Friday
ATTACH;FMTTYPE=image/jpeg:https://visitlancastercity.com/wp-content/uploads/TRINITY_Identity_Horizontal_Established_FullColor_PMS.jpg
GEO:40.037233;-76.302843
X-APPLE-STRUCTURED-LOCATION;VALUE=URI;X-ADDRESS=Holy Trinity Lutheran Church 31 South Duke Street Lancaster PA 17602 United States;X-APPLE-RADIUS=500;X-TITLE=31 South Duke Street:geo:-76.302843,40.037233
END:VEVENT
BEGIN:VEVENT
DTSTART;TZID=America/New_York:20260206T170000
DTEND;TZID=America/New_York:20260206T183000
DTSTAMP:20260422T113902
CREATED:20260109T153932Z
LAST-MODIFIED:20260109T153933Z
UID:56068-1770397200-1770402600@visitlancastercity.com
SUMMARY:Trinity First Friday Lecture Series
DESCRIPTION:Join us at Trinity Lutheran Church\, 31 S. Duke Street on Friday\, February 6th for inaugural Trinity First Friday Lecture Series. The evening will begin with the playing of our Church bells at 5 pm\, followed by an introduction of our Church\, refreshments and a short organ performance. The main speaker presentation will start around 5:30 pm followed by sanctuary tours and an opportunity to meet the speaker. All activities will be held in the Church Sanctuary at the corner of Duke and Mifflin Streets. Our first speaker will be Tanya Kevorkian presenting “G.H.E. (Henry) Muhlenberg\, 1753-1815\, Renaissance Man in Lancaster: Botanist\, Pastor\, Farmer\, Healer\, and More.” We provide free parking\, free music and free refreshments.
URL:https://visitlancastercity.com/event/trinity-first-friday-lecture-series/
LOCATION:Holy Trinity Lutheran Church\, 31 South Duke Street\, Lancaster\, PA\, 17602\, United States
CATEGORIES:First Friday
ATTACH;FMTTYPE=image/jpeg:https://visitlancastercity.com/wp-content/uploads/Letterhead-2.jpg
GEO:40.037233;-76.302843
X-APPLE-STRUCTURED-LOCATION;VALUE=URI;X-ADDRESS=Holy Trinity Lutheran Church 31 South Duke Street Lancaster PA 17602 United States;X-APPLE-RADIUS=500;X-TITLE=31 South Duke Street:geo:-76.302843,40.037233
END:VEVENT
BEGIN:VEVENT
DTSTART;TZID=America/New_York:20250801T170000
DTEND;TZID=America/New_York:20250801T200000
DTSTAMP:20260422T113902
CREATED:20250717T155259Z
LAST-MODIFIED:20250717T155950Z
UID:54842-1754067600-1754078400@visitlancastercity.com
SUMMARY:Free Art Class and Sanctuary Tours
DESCRIPTION:All are invited to join us at Holy Trinity Lutheran Church on Friday\, August 1st at 5:00 pm for the playing of the tower bells\, followed by an Art Class on Trinity’s Parish House front lawn. There will be sanctuary tours and organ music as well. The evening will wrap up after refreshments are served about 6:00 pm. 
URL:https://visitlancastercity.com/event/free-art-class-and-sanctuary-tours/
LOCATION:Holy Trinity Lutheran Church\, 31 South Duke Street\, Lancaster\, PA\, 17602\, United States
CATEGORIES:First Friday
GEO:40.037233;-76.302843
X-APPLE-STRUCTURED-LOCATION;VALUE=URI;X-ADDRESS=Holy Trinity Lutheran Church 31 South Duke Street Lancaster PA 17602 United States;X-APPLE-RADIUS=500;X-TITLE=31 South Duke Street:geo:-76.302843,40.037233
END:VEVENT
BEGIN:VEVENT
DTSTART;TZID=America/New_York:20250704T170000
DTEND;TZID=America/New_York:20250704T190000
DTSTAMP:20260422T113902
CREATED:20250701T151056Z
LAST-MODIFIED:20250701T151057Z
UID:54740-1751648400-1751655600@visitlancastercity.com
SUMMARY:Outdoor Games and Historic Sanctuary Tours
DESCRIPTION:Everyone is invited to Holy Trinity Lutheran Church for some family fun on Friday\, July 4th. At 5:00 pm the churches’ steeple bells will play calling everyone to meet on our Parish House front lawn to play some Chess and Checkers games. Our resident Chess coach will be on hand to offer some tips about strategic moves. There will also be sanctuary tours in Trinity’s Historic Sanctuary. Refreshments will be served about 5:45 pm.
URL:https://visitlancastercity.com/event/outdoor-games-and-historic-sanctuary-tours/
LOCATION:Holy Trinity Lutheran Church\, 31 South Duke Street\, Lancaster\, PA\, 17602\, United States
CATEGORIES:First Friday
GEO:40.037233;-76.302843
X-APPLE-STRUCTURED-LOCATION;VALUE=URI;X-ADDRESS=Holy Trinity Lutheran Church 31 South Duke Street Lancaster PA 17602 United States;X-APPLE-RADIUS=500;X-TITLE=31 South Duke Street:geo:-76.302843,40.037233
END:VEVENT
END:VCALENDAR