BEGIN:VCALENDAR
VERSION:2.0
PRODID:-//Visit Lancaster City - ECPv6.15.20//NONSGML v1.0//EN
CALSCALE:GREGORIAN
METHOD:PUBLISH
X-WR-CALNAME:Visit Lancaster City
X-ORIGINAL-URL:https://visitlancastercity.com
X-WR-CALDESC:Events for Visit Lancaster City
REFRESH-INTERVAL;VALUE=DURATION:PT1H
X-Robots-Tag:noindex
X-PUBLISHED-TTL:PT1H
BEGIN:VTIMEZONE
TZID:America/New_York
BEGIN:DAYLIGHT
TZOFFSETFROM:-0500
TZOFFSETTO:-0400
TZNAME:EDT
DTSTART:20250309T070000
END:DAYLIGHT
BEGIN:STANDARD
TZOFFSETFROM:-0400
TZOFFSETTO:-0500
TZNAME:EST
DTSTART:20251102T060000
END:STANDARD
BEGIN:DAYLIGHT
TZOFFSETFROM:-0500
TZOFFSETTO:-0400
TZNAME:EDT
DTSTART:20260308T070000
END:DAYLIGHT
BEGIN:STANDARD
TZOFFSETFROM:-0400
TZOFFSETTO:-0500
TZNAME:EST
DTSTART:20261101T060000
END:STANDARD
BEGIN:DAYLIGHT
TZOFFSETFROM:-0500
TZOFFSETTO:-0400
TZNAME:EDT
DTSTART:20270314T070000
END:DAYLIGHT
BEGIN:STANDARD
TZOFFSETFROM:-0400
TZOFFSETTO:-0500
TZNAME:EST
DTSTART:20271107T060000
END:STANDARD
END:VTIMEZONE
BEGIN:VEVENT
DTSTART;TZID=America/New_York:20260501T180000
DTEND;TZID=America/New_York:20260501T220000
DTSTAMP:20260417T224531
CREATED:20260414T150627Z
LAST-MODIFIED:20260414T150628Z
UID:57367-1777658400-1777672800@visitlancastercity.com
SUMMARY:The Lancaster Living Poetry Museum II
DESCRIPTION:Lancaster will celebrate National Poetry Month by preparing for The Lancaster Living Poetry Museum II. The event will be staged twice\, the first time as part of First Friday festivities on May 1\, 2026\, from 6:00 – 10:00 pm. 16 performers will embody poets and musicians at four downtown venues throughout the city in one-person shows that provide education and entertainment to audiences free of charge. This event is an initiative founded and directed by Lancaster City Poet Laureate Dana Kinsey. \n\n\n\nPerformers will bring poets to life at the following venues: Carol Allen as Shakespeare\, PAN as Amelia Earhart\, Lee Morr as Shel Silverstein\, and Coral Rites as Andrea Gibson in the Boardroom at the Lancaster Public Library; Maria Thompson-Corley as Lucille Clifton\, Malia Burris as Noʻu Revilla\, Bronte Spidaliere as Louise Glück\, and Ruel Rahim as Fela Aníkúlápó Kuti at Lancaster Art Vault; Beimnet Getahun as Hiwot Adilow\, Circumstantial Saint as Langston Hughes\, Dana Kinsey as Edna St. Vincent Millay\, and sean poets as Andrea Gibson in the Willow Room at Southern Market; and Natalie Knox as Elizabeth Barrett Browning\, Sir Dominique Jordan as Muhammad Ali\, Starr Snyder as Jewel\, and Ángel Rafael as Miguel Piñero at People & Things. Poet Skyler Gibbon will serve as a guide\, escorting the audience to each location.
URL:https://visitlancastercity.com/event/the-lancaster-living-poetry-museum-ii/
LOCATION:Lancaster Public Library\, 151 N. Queen Street\, Lancaster\, 17603\, United States
CATEGORIES:Family Fun,First Friday,Free Events and Activites
GEO:40.0406753;-76.3037607
X-APPLE-STRUCTURED-LOCATION;VALUE=URI;X-ADDRESS=Lancaster Public Library 151 N. Queen Street Lancaster 17603 United States;X-APPLE-RADIUS=500;X-TITLE=151 N. Queen Street:geo:-76.3037607,40.0406753
END:VEVENT
BEGIN:VEVENT
DTSTART;TZID=America/New_York:20260502T190000
DTEND;TZID=America/New_York:20260502T210000
DTSTAMP:20260417T224531
CREATED:20260414T151214Z
LAST-MODIFIED:20260414T151216Z
UID:57374-1777748400-1777755600@visitlancastercity.com
SUMMARY:The Lancaster Living Poetry Museum II
DESCRIPTION:Lancaster will celebrate National Poetry Month by preparing for The Lancaster Living Poetry Museum II.  On Saturday\, May 2\, all performers will be on stage at Zoetropolis Cinema Still House in a full-cast show at 7:00 pm. Tickets are available on Zoetropolis’ website. This event is an initiative founded and directed by Lancaster City Poet Laureate Dana Kinsey. \n\n\n\nThe following performers will bring poets to life: Carol Allen as Shakespeare\, PAN as Amelia Earhart\, Lee Morr as Shel Silverstein\, and Coral Rites and sean poets as Andrea Gibson\, Maria Thompson-Corley as Lucille Clifton\, Malia Burris as Noʻu Revilla\, Bronte Spidaliere as Louise Glück\, Ruel Rahim as Fela Aníkúlápó Kuti\, Beimnet Getahun as Hiwot Adilow\, Circumstantial Saint as Langston Hughes\, Dana Kinsey as Edna St. Vincent Millay\, Natalie Knox as Elizabeth Barrett Browning\, Sir Dominique Jordan as Muhammad Ali\, Starr Snyder as Jewel\, Ángel Rafael as Miguel Piñero\, and Shelby Wormley as India Arie.  
URL:https://visitlancastercity.com/event/the-lancaster-living-poetry-museum-ii-2/
LOCATION:Zoetropolis Cinema Stillhouse\, 112 North Water Street\, Lancaster\, PA\, 17063\, United States
CATEGORIES:Arts and Culture,History
END:VEVENT
END:VCALENDAR